BEGIN:VCALENDAR
VERSION:2.0
PRODID:-//ChamberMaster//Event Calendar 2.0//EN
METHOD:PUBLISH
X-PUBLISHED-TTL:P3D
REFRESH-INTERVAL:P3D
CALSCALE:GREGORIAN
BEGIN:VEVENT
DTSTART:20240521T230000Z
DTEND:20240522T010000Z
X-MICROSOFT-CDO-ALLDAYEVENT:FALSE
SUMMARY:Springfield Chapter Meeting - Questioning Strategies to Build Trust & Deal with Difficult People
DESCRIPTION:Questioning Strategies to Build Trust & Deal with Difficult People\n\nwith Aaron Solari\nIn this interactive and workshop based session we will do a deep dive into the art and science of asking the right questions to cultivate trust. From building rapport to navigating challenging conversations\, you'll gain actionable communication strategies to enhance your skills and uncovering truth and developing deeper relationships both in a professional and personal landscape.
X-ALT-DESC;FMTTYPE=text/html:<span style="font-size:14px\;"><span style="font-family:tahoma\;"><span style="font-size:16px\;"><strong>Questioning Strategies to Build Trust &amp\; Deal with Difficult People</strong></span><br />\nwith Aaron Solari</span></span>\n<p class="_04xlpA direction-ltr align-start para-style-body" style="color: rgb(0\, 0\, 0)\; font-family: &quot\;YACgEX8C5Gg 0&quot\;\, _fb_\, auto\; --font-size:17.3333px\; --line-height:1.4\; line-height: 24px\;"><span style="font-size:14px\;"><span style="font-family:tahoma\;"><span class="OYPEnA text-decoration-none text-strikethrough-none" style="color: rgb(0\, 0\, 0)\;">In this interactive and workshop based session we will do a deep dive into the art and science of asking the right questions to cultivate trust. From building rapport to navigating challenging conversations\, you&#39\;ll gain actionable communication strategies to enhance your skills and uncovering truth and developing deeper relationships both in a professional and personal landscape.</span></span></span></p>\n
LOCATION:Sandler 2870 S Ingram Mill Rd\, Suite C Springfield\, MO 65804
UID:e.9124.1638
SEQUENCE:3
DTSTAMP:20260419T154541Z
URL:https://consumer.asa-midwest.org/events/details/springfield-chapter-meeting-questioning-strategies-to-build-trust-deal-with-difficult-people-1638
END:VEVENT

END:VCALENDAR
