BEGIN:VCALENDAR
VERSION:2.0
PRODID:-//ChamberMaster//Event Calendar 2.0//EN
METHOD:PUBLISH
X-PUBLISHED-TTL:P3D
REFRESH-INTERVAL:P3D
CALSCALE:GREGORIAN
BEGIN:VEVENT
DTSTART:20240614T230500Z
DTEND:20240615T030000Z
X-MICROSOFT-CDO-ALLDAYEVENT:FALSE
SUMMARY:Springfield Cardinals Game
DESCRIPTION:TAKE ME OUT TO THE BALL GAME!\n\n\n\nSpringfield area shops and industry partners - we invite you to join us for a night at the ballpark as the Springfield Cardinals take on the Northwest Arkansas Naturals!\n\n\n\nWe will be enjoying the game from Party Decks K &L.  Our group will enjoy a buffet and a great view of the game!\n\n\n\nYour ticket includes:\n\n	A served buffet that includes ballpark fare\n	Reserved outdoor seating
X-ALT-DESC;FMTTYPE=text/html:<span style="font-family: arial\;"><span class="JsGRdQ" style="font-weight: 700\; color: rgb(0\, 0\, 0)\;"><span style="font-size: 18px\;"><strong>TAKE ME OUT TO THE BALL GAME!</strong></span></span><br />\n<br />\n<span class="JsGRdQ" style="font-weight: 700\; color: rgb(0\, 0\, 0)\;">Springfield area shops and industry partners - we invite you to join us for a night at the ballpark as the Springfield Cardinals take on the Northwest Arkansas Naturals!<br />\n<br />\nWe will be enjoying the game from Party Decks K &amp\;L.&nbsp\; Our group will enjoy a buffet and a great view of the game!<br />\n<br />\nYour ticket includes:</span></span>\n<ul>\n	<li><span style="font-family: arial\;"><span class="JsGRdQ" style="font-weight: 700\; color: rgb(0\, 0\, 0)\;">A served buffet that includes ballpark fare</span></span></li>\n	<li><span style="font-family: arial\;"><span class="JsGRdQ" style="font-weight: 700\; color: rgb(0\, 0\, 0)\;">Reserved outdoor seating</span></span></li>\n</ul>\n
LOCATION:Hammons Field 955 E Trafficway St Springfield\, MO 65802 Register by June 1st
UID:e.9124.1602
SEQUENCE:3
DTSTAMP:20260419T141100Z
URL:https://consumer.asa-midwest.org/events/details/springfield-cardinals-game-1602
END:VEVENT

END:VCALENDAR
