BEGIN:VCALENDAR
VERSION:2.0
PRODID:-//ChamberMaster//Event Calendar 2.0//EN
METHOD:PUBLISH
X-PUBLISHED-TTL:P3D
REFRESH-INTERVAL:P3D
CALSCALE:GREGORIAN
BEGIN:VEVENT
DTSTART:20240513T233000Z
DTEND:20240514T013000Z
X-MICROSOFT-CDO-ALLDAYEVENT:FALSE
SUMMARY:Southeast Iowa Chapter Meeting - What If: Preparing Your Shop for Your Unexpected Absence
DESCRIPTION:What If: Preparing Your Shop for Your Unexpected Absence\n\npresented by Joe Sevart\n\n \nWhat if .? We all ask the question but think it will never happen to us. But industry friends\, it DOES happen! Some of our fellow industry shop owners have experienced it. Accident\, illness and even death. \n\nIs your business prepared if something happens to you or one of your key employees? Do your employees know what to do? Does your spouse know what to do or how to keep the business open and running?\n\nJoin us where we discuss valuable information\, documents\, and policies and procedures that will help your business keep running smoothly in the unfortunate event something happens. We will also cover what happens if problems arise within the shop including what happens if your phones go down or if your Internet goes out. Owners and managers will come away from this meeting with a 20-page document that you can immediately begin completing that will provide information\, resources and plans for your team. Don't leave your family and employees in crisis.
X-ALT-DESC;FMTTYPE=text/html:<span style="font-family:tahoma\;"><strong><span style="font-size:16px\;">What If: </span></strong><span style="font-size: 14px\;"><strong><span style="font-size:16px\;">Preparing Your Shop for Your Unexpected Absence</span></strong><br />\npresented by Joe Sevart</span></span><br />\n&nbsp\;\n<p style="box-sizing: border-box\; margin: 0px 0px 10px\; max-width: 100%\; overflow-wrap: break-word\; font-family: &quot\;helvetica neue&quot\;\, helvetica\, arial\; font-size: 14px\; direction: ltr !important\;"><span style="font-family:tahoma\;">What if&hellip\;.? We all ask the question but think it will never happen to us. But industry friends\, it DOES happen! Some of our fellow industry shop owners have experienced it. Accident\, illness and even death.&nbsp\;</span></p>\n\n<p style="box-sizing: border-box\; margin: 0px 0px 10px\; max-width: 100%\; overflow-wrap: break-word\; font-family: &quot\;helvetica neue&quot\;\, helvetica\, arial\; font-size: 14px\; direction: ltr !important\;"><span style="font-family:tahoma\;">Is your business prepared if something happens to you or one of your key employees? Do your employees know what to do? Does your spouse know what to do or how to keep the business open and running?</span></p>\n\n<p style="box-sizing: border-box\; margin: 0px 0px 10px\; max-width: 100%\; overflow-wrap: break-word\; font-family: &quot\;helvetica neue&quot\;\, helvetica\, arial\; font-size: 14px\; direction: ltr !important\;"><span style="font-family:tahoma\;">Join us where we discuss valuable information\, documents\, and policies and procedures that will help your business keep running smoothly in the unfortunate event something happens. We will also cover what happens if problems arise within the shop including what happens if your phones go down or if your Internet goes out. Owners and managers will come away from this meeting with a 20-page document that you can immediately begin completing that will provide information\, resources and plans for your team.&nbsp\;<span style="box-sizing: border-box\; max-width: 100%\; overflow-wrap: break-word\; direction: ltr !important\; text-align: unset !important\;">Don&rsquo\;t leave your family and employees in crisis.&nbsp\;</span></span></p>\n
LOCATION:Brad Holtkamp Automotive 907 E Washington St Suite 101 Mt. Pleasant\, IA 52641
UID:e.9124.1629
SEQUENCE:3
DTSTAMP:20260419T154540Z
URL:https://consumer.asa-midwest.org/events/details/southeast-iowa-chapter-meeting-what-if-preparing-your-shop-for-your-unexpected-absence-1629
END:VEVENT

END:VCALENDAR
