BEGIN:VCALENDAR
VERSION:2.0
PRODID:-//ChamberMaster//Event Calendar 2.0//EN
METHOD:PUBLISH
X-PUBLISHED-TTL:P3D
REFRESH-INTERVAL:P3D
CALSCALE:GREGORIAN
BEGIN:VEVENT
DTSTART:20240504T130000Z
DTEND:20240504T213000Z
X-MICROSOFT-CDO-ALLDAYEVENT:FALSE
SUMMARY:Rescheduled Wichita Chapter Meeting - Practical Labscope Application Testing
DESCRIPTION:Practical Labscope Application Testing\n\npresented by Jim Wilson\n\nIn this class with Live demonstrations\, we will cover:\n\n\n	Setting Time\, Voltage and Trigger for stable patterns\n	The Five Primary Signal Types\n	The Five Critical Dimensions of waveform testing\n	Ignition testing for DI\, DIS\, and Coil on plug systems.\n	Low Amperage Probe Testing\n	In Cylinder Pressure Transducer testing\n	Pressure Pulse Sensor Diagnostics \n\n\nBring your scope\, low amp probe\, high amp probe and pressure transducers if you have them to use in this class. Let's learn how to use a labscope to diagnose problems of all types and make money while we do it.
X-ALT-DESC;FMTTYPE=text/html:<span style="font-size:14px\;"><span style="font-size:16px\;"><span style="font-family:tahoma\;"><strong>Practical Labscope Application Testing</strong></span></span><br />\n<span style="font-family:tahoma\;">presented by Jim Wilson</span></span>\n<div>\n<p><span style="font-size:14px\;"><span style="font-family:tahoma\,sans-serif\;">In this class with Live demonstrations\, we will cover:</span></span></p>\n\n<ul>\n	<li><span style="font-size:14px\;"><span style="font-family:tahoma\,sans-serif\;">Setting Time\, Voltage and Trigger for stable patterns</span></span></li>\n	<li><span style="font-size:14px\;"><span style="font-family:tahoma\,sans-serif\;">The Five Primary Signal Types</span></span></li>\n	<li><span style="font-size:14px\;"><span style="font-family:tahoma\,sans-serif\;">The Five Critical Dimensions of waveform testing</span></span></li>\n	<li><span style="font-size:14px\;"><span style="font-family:tahoma\,sans-serif\;">Ignition testing for DI\, DIS\, and Coil on plug systems.</span></span></li>\n	<li><span style="font-size:14px\;"><span style="font-family:tahoma\,sans-serif\;">Low Amperage Probe Testing</span></span></li>\n	<li><span style="font-size:14px\;"><span style="font-family:tahoma\,sans-serif\;">In Cylinder Pressure Transducer testing</span></span></li>\n	<li><span style="font-size:14px\;"><span style="font-family:tahoma\,sans-serif\;">Pressure Pulse Sensor Diagnostics </span></span></li>\n</ul>\n\n<p><span style="font-size:14px\;"><span style="font-family:tahoma\,sans-serif\;">Bring your scope\, low amp probe\, high amp probe and pressure transducers if you have them to use in this class. Let&rsquo\;s learn how to use a labscope to diagnose problems of all types and make money while we do it.</span></span><br />\n&nbsp\;</p>\n</div>\n
LOCATION:Affinity Automotive 2606 W Pawnee St Wichita\, KS 67213
UID:e.9124.1539
SEQUENCE:3
DTSTAMP:20260419T140937Z
URL:https://consumer.asa-midwest.org/events/details/rescheduled-wichita-chapter-meeting-practical-labscope-application-testing-1539
END:VEVENT

END:VCALENDAR
