BEGIN:VCALENDAR
VERSION:2.0
PRODID:-//ChamberMaster//Event Calendar 2.0//EN
METHOD:PUBLISH
X-PUBLISHED-TTL:P3D
REFRESH-INTERVAL:P3D
CALSCALE:GREGORIAN
BEGIN:VEVENT
DTSTART:20240312T233000Z
DTEND:20240313T013000Z
X-MICROSOFT-CDO-ALLDAYEVENT:FALSE
SUMMARY:POSTPONED: Hannibal/Quincy Chapter: What Keeps You Up At Night? Industry Roundtable & Chapter Kickoff Event
DESCRIPTION:POSTPONED: MWACA Hannibal/Quincy Chapter: What Keeps You Up At Night? Industry Roundtable & Chapter Kickoff Event\n\npresented by Sheri Hamilton\, MWACA Executive Director\n\nJoin us as we discuss the concerns and fears of owning and managing a repair shop in today's economy. MWACA (Midwest Auto Care Alliance) wants to hear your concerns about the industry and find out how we can better serve you. We will discuss ways to take on these issues and prepare your shop for a successful future. We will also update you on exciting activities and initiatives launching with MWACA. \n\n \n\nAt MWACA\, we strive to be a leading provider of top of the line training\, money-saving programs\, shop member support\, and relevant industry-related updates along with other important benefits and services designed to help you. You have an important voice and we hope you will join us on March 19th!
X-ALT-DESC;FMTTYPE=text/html:<p><span style="font-size:18px\;"><strong><span style="font-family:verdana\;"><u><span style="color:#FF0000\;">POSTPONED: </span></u>MWACA Hannibal/Quincy&nbsp\;Chapter: What Keeps You Up At Night?&nbsp\;Industry Roundtable &amp\; Chapter Kickoff Event</span></strong></span><br style="font-family: arial\;" />\n<span style="font-family:verdana\;"><strong style="font-family: arial\; font-size: 16px\;">presented by Sheri Hamilton\, MWACA Executive Director</strong></span></p>\n\n<div style="color: rgb(26\, 26\, 26)\; font-family: &quot\;Trebuchet MS&quot\;\, Verdana\, Helvetica\, sans-serif\; font-size: 14px\; white-space: pre-wrap\;"><span style="font-size:14px\;"><span style="font-family:verdana\;"><span style="color: rgb(15\, 36\, 62)\;">Join us as we discuss the concerns and fears of owning and managing a repair shop in today&rsquo\;s economy.&nbsp\;MWACA (Midwest Auto Care Alliance) wants to hear your concerns about the industry and find out how we can better serve you. We will discuss ways to take on these issues and prepare your shop for a successful future. We will also update you on exciting activities and initiatives launching with MWACA.&nbsp\;</span></span></span></div>\n\n<div style="color: rgb(26\, 26\, 26)\; font-family: &quot\;Trebuchet MS&quot\;\, Verdana\, Helvetica\, sans-serif\; font-size: 14px\; white-space: pre-wrap\;">&nbsp\;</div>\n\n<div style="color: rgb(26\, 26\, 26)\; font-family: &quot\;Trebuchet MS&quot\;\, Verdana\, Helvetica\, sans-serif\; font-size: 14px\; white-space: pre-wrap\;"><span style="font-size:14px\;"><span style="font-family:verdana\;"><span style="color: rgb(15\, 36\, 62)\;">At MWACA\, we strive to be a leading provider of top of the line training\,&nbsp\;money-saving programs\, shop member support\, and relevant industry-related updates along with other important benefits and services designed to help you.&nbsp\;You have an important voice and we hope you will join us on March 19th!</span></span></span></div>\n
LOCATION:Fiddlestiks 8945 US-36 Hannibal\, MO 63401
UID:e.9124.1600
SEQUENCE:3
DTSTAMP:20260419T183609Z
URL:https://consumer.asa-midwest.org/events/details/postponed-hannibal-quincy-chapter-what-keeps-you-up-at-night-industry-roundtable-chapter-kickoff-event-1600
END:VEVENT

END:VCALENDAR
