BEGIN:VCALENDAR
VERSION:2.0
PRODID:-//ChamberMaster//Event Calendar 2.0//EN
METHOD:PUBLISH
X-PUBLISHED-TTL:P3D
REFRESH-INTERVAL:P3D
CALSCALE:GREGORIAN
BEGIN:VEVENT
DTSTART:20240521T233000Z
DTEND:20240522T013000Z
X-MICROSOFT-CDO-ALLDAYEVENT:FALSE
SUMMARY:MWACA Webinar - New Vehicle Technology with Haakan Light
DESCRIPTION:New Vehicle Technology\n\nPresented via webinar by Haakan Light\n\n \nAre you ready to dive into the future of automotive service and repair? Join us for an insightful journey into the latest advancements shaping the industry. We will explore cutting-edge topics\, including vehicle gateways and their pivotal role in modern service ecosystems. Learn what vehicle gateways are\, their significance\, and how they revolutionize service delivery.\n\nUnveil the power of programming power supplies and understand why they are different. Delve into their unique features and why we should be using one. Additionally\, explore the critical role of relearns\, adaptations\, coding\, and programming. Get ahead in the game by understanding the relevance of Advanced Driver Assistance Systems (ADAS) in diagnostics and service today\n\nDon't miss this chance to equip yourself with the knowledge and skills needed to thrive in the rapidly evolving automotive landscape. Join us and be at the forefront of tomorrow's technology\, today!
X-ALT-DESC;FMTTYPE=text/html:<span style="font-size:16px\;"><strong>New Vehicle Technology</strong><br />\nPresented via webinar by Haakan Light</span><br />\n&nbsp\;\n<p class="cvGsUA direction-ltr align-start para-style-body" style="color: rgb(0\, 0\, 0)\; font-family: &quot\;YAFdJoNRMmU 0&quot\;\, _fb_\, auto\; --font-size: 16.0001px\; --line-height: 1.82\; line-height: 29px\;"><span style="font-size:14px\;"><span class="OYPEnA text-decoration-none text-strikethrough-none">Are you ready to dive into the future of automotive service and repair? Join us for an insightful journey into the latest advancements shaping the industry. We will explore cutting-edge topics\, including vehicle gateways and their pivotal role in modern service ecosystems. Learn what vehicle gateways are\, their significance\, and how they revolutionize service delivery.</span></span></p>\n\n<p class="cvGsUA direction-ltr align-start para-style-body" style="color: rgb(0\, 0\, 0)\; font-family: &quot\;YAFdJoNRMmU 0&quot\;\, _fb_\, auto\; --font-size: 16.0001px\; --line-height: 1.82\; line-height: 29px\;"><span style="font-size:14px\;"><span class="OYPEnA text-decoration-none text-strikethrough-none">Unveil the power of programming power supplies and understand why they are different. Delve into their unique features and why we should be using one. Additionally\, explore the critical role of relearns\, adaptations\, coding\, and programming. Get ahead in the game by understanding the relevance of Advanced Driver Assistance Systems (ADAS) in diagnostics and service today</span></span></p>\n\n<p class="cvGsUA direction-ltr align-start para-style-body" style="color: rgb(0\, 0\, 0)\; font-family: &quot\;YAFdJoNRMmU 0&quot\;\, _fb_\, auto\; --font-size: 16.0001px\; --line-height: 1.82\; line-height: 29px\;"><span style="font-size:14px\;"><span class="OYPEnA text-decoration-none text-strikethrough-none">Don&#39\;t miss this chance to equip yourself with the knowledge and skills needed to thrive in the rapidly evolving automotive landscape. Join us and be at the forefront of tomorrow&#39\;s technology\, today!</span></span></p>\n
LOCATION:Virtual
UID:e.9124.1655
SEQUENCE:3
DTSTAMP:20260419T141124Z
URL:https://consumer.asa-midwest.org/events/details/mwaca-webinar-new-vehicle-technology-with-haakan-light-1655
END:VEVENT

END:VCALENDAR
