BEGIN:VCALENDAR
VERSION:2.0
PRODID:-//ChamberMaster//Event Calendar 2.0//EN
METHOD:PUBLISH
X-PUBLISHED-TTL:P3D
REFRESH-INTERVAL:P3D
CALSCALE:GREGORIAN
BEGIN:VEVENT
DTSTART:20240420T130000Z
DTEND:20240420T170000Z
X-MICROSOFT-CDO-ALLDAYEVENT:FALSE
SUMMARY:Hannibal/Quincy Chapter: Automotive HVAC Systems: Essential Diagnostics
DESCRIPTION:Automotive HVAC: Essential Diagnostics\n\npresented by Keith Perkins\n\nsponsored by Carquest Technical Institute\n\n\n\nThis class provides a solid foundation of essential HVAC diagnostic procedures\, based upon diagnostic best practices\, in order to assure correct and complete diagnostic conclusions of common HVAC failures. Topics will include temperature and pressure testing\, the diagnosis of compressor clutch controls\, PWM fan diagnostics\, and variable displacement compressor controls. Special emphasis will include how to evaluate overall performance and efficient choice of diagnostic methods. The effects of internal heat exchangers and how they change expected test results compared to a "traditional" system will also be featured.
X-ALT-DESC;FMTTYPE=text/html:<p><span style="font-size:14px\;"><span style="font-family:tahoma\;"><span style="font-size:16px\;"><strong>Automotive HVAC: Essential Diagnostics</strong></span><br style="font-family: arial\;" />\n<strong style="font-family: arial\; font-size: 16px\;">presented by Keith Perkins<br />\nsponsored by Carquest Technical Institute</strong></span></span></p>\n\n<div style="color: rgb(26\, 26\, 26)\; font-family: &quot\;Trebuchet MS&quot\;\, Verdana\, Helvetica\, sans-serif\; font-size: 14px\; white-space: pre-wrap\;">\n<div>\n<p><span style="font-size:14px\;"><span style="font-family:tahoma\;">This class provides a solid foundation of essential HVAC diagnostic procedures\, based upon diagnostic best practices\, in order to assure correct and complete diagnostic conclusions of common HVAC failures. Topics will include temperature and pressure testing\, the diagnosis of compressor clutch controls\, PWM fan diagnostics\, and variable displacement compressor controls. Special emphasis will include how to evaluate overall performance and efficient choice of diagnostic methods. The effects of internal heat exchangers and how they change expected test results compared to a &ldquo\;traditional&rdquo\; system will also be featured.</span></span></p>\n</div>\n</div>\n
LOCATION:K&K Performance Automotive 17055 Sundance Dr New London\, MO 63459
UID:e.9124.1615
SEQUENCE:3
DTSTAMP:20260419T170702Z
URL:https://consumer.asa-midwest.org/events/details/hannibal-quincy-chapter-automotive-hvac-systems-essential-diagnostics-1615
END:VEVENT

END:VCALENDAR
