BEGIN:VCALENDAR
VERSION:2.0
PRODID:-//ChamberMaster//Event Calendar 2.0//EN
METHOD:PUBLISH
X-PUBLISHED-TTL:P3D
REFRESH-INTERVAL:P3D
CALSCALE:GREGORIAN
BEGIN:VEVENT
DTSTART:20240319T223000Z
DTEND:20240320T010000Z
X-MICROSOFT-CDO-ALLDAYEVENT:FALSE
SUMMARY:Gateway Collision Chapter - Collision Industry Roundtable
DESCRIPTION:Collision Industry Roundtable Event\n\nPresented by Sean Crader\n\nSponsored by Sean Crader\, Lewis & Clark Career Center\nSean will give us an overview of the Collision Program at Lewis and Clark. This will be followed by an industry roundtable discussion. This will be a great opportunity to see what is happening in the tech schools and to meet Sean. \n\nSean is doing a great job of preparing students to enter the collision industry. We will be able to discuss any aspect of the collision repair industry except price. Great time to come have some pizza and spend a little time with like-minded professionals working together to improve the collision industry.
X-ALT-DESC;FMTTYPE=text/html:<strong><span style="font-size:16px\;"><span style="font-family:tahoma\;">Collision Industry Roundtable Event<br />\n<span style="font-size:14px\;">Presented by Sean Crader<br />\nSponsored by Sean Crader\, Lewis &amp\; Clark Career Center</span></span></span></strong>\n<div class="cvGsUA direction-ltr align-start para-style-body" style="color: rgb(0\, 0\, 0)\; font-family: &quot\;YAFdJoNRMmU 0&quot\;\, _fb_\, auto\; --font-size: 20px\; --line-height: 1.4\; line-height: 28px\;"><span style="font-size:14px\;"><span style="font-family:tahoma\;"><span class="OYPEnA text-decoration-none text-strikethrough-none">Sean will give us an overview of the Collision Program at Lewis and Clark. This will be followed by an industry roundtable discussion. This will be a great opportunity to see what is happening in the tech schools and to meet Sean.</span><span class="OYPEnA text-decoration-none text-strikethrough-none white-space-prewrap"> </span></span></span></div>\n\n<div class="cvGsUA direction-ltr align-start para-style-body" style="color: rgb(0\, 0\, 0)\; font-family: &quot\;YAFdJoNRMmU 0&quot\;\, _fb_\, auto\; --font-size: 20px\; --line-height: 1.4\; line-height: 28px\;"><span style="font-size:14px\;"><span style="font-family:tahoma\;"><span class="OYPEnA text-decoration-none text-strikethrough-none">Sean is doing a great job of preparing students to enter the collision industry. We will be able to discuss any aspect of the collision repair industry except price. Great time to come have some pizza and spend a little time with like-minded professionals working together to improve the collision industry.</span></span></span></div>\n<br />\n<br />\n&nbsp\;
LOCATION:Lewis and Clark Career Center Collision Shop (Enter through outside shop door) 2400 Zumbehl Road St. Charles\, MO 63301
UID:e.9124.1601
SEQUENCE:3
DTSTAMP:20260419T170224Z
URL:https://consumer.asa-midwest.org/events/details/gateway-collision-chapter-collision-industry-roundtable-1601
END:VEVENT

END:VCALENDAR
