BEGIN:VCALENDAR
VERSION:2.0
PRODID:-//ChamberMaster//Event Calendar 2.0//EN
METHOD:PUBLISH
X-PUBLISHED-TTL:P3D
REFRESH-INTERVAL:P3D
CALSCALE:GREGORIAN
BEGIN:VEVENT
DTSTART:20240406T140000Z
DTEND:20240406T163000Z
X-MICROSOFT-CDO-ALLDAYEVENT:FALSE
SUMMARY:Des Moines SOS Group Meeting - April Meeting
DESCRIPTION:S.O.S. Group / Des Moines\n\nSaturday\, April 6\, 2024\n\n9:00 am - 11:30 am \n\n\n\nYour prompt RSVP is requested so that the host shop can make preparations for enough food for your S.O.S. Group.\n\n\n\nThis month's topic: Accountability
X-ALT-DESC;FMTTYPE=text/html:<span style="font-family:verdana\;"><strong style="font-family: verdana\;">S.O.S. Group / Des Moines</strong><br />\n<strong style="font-family: verdana\;">Saturday\, April 6\,</strong><strong>&nbsp\;2024</strong><br />\n<strong><strong>9:00 am - 11:30 am </strong></strong><br />\n<br />\n<span style="font-size:14px\;"><span style="font-family:tahoma\;">Your prompt RSVP is requested so that the host shop can make preparations for enough food for your S.O.S. Group.</span></span></span><br />\n<br />\n<span style="font-size:14px\;"><span style="font-family:tahoma\;">This month&#39\;s topic: Accountability</span></span>
LOCATION:Jeffrey Auto Repair 2071 15th St SW Mason City\, IA 50401
UID:e.9124.1546
SEQUENCE:3
DTSTAMP:20260419T154223Z
URL:https://consumer.asa-midwest.org/events/details/des-moines-sos-group-meeting-april-meeting-1546
END:VEVENT

END:VCALENDAR
