BEGIN:VCALENDAR
VERSION:2.0
PRODID:-//ChamberMaster//Event Calendar 2.0//EN
METHOD:PUBLISH
X-PUBLISHED-TTL:P3D
REFRESH-INTERVAL:P3D
CALSCALE:GREGORIAN
BEGIN:VEVENT
DTSTART:20240607T230000Z
DTEND:20240608T030000Z
X-MICROSOFT-CDO-ALLDAYEVENT:FALSE
SUMMARY:Des Moines Chapter Event: Iowa Cubs Game
DESCRIPTION:TAKE ME OUT TO THE BALL GAME!\n\n\n\nDes Moines area shops and industry partners - we invite you to join us for a night at the ballpark as the Iowa Cubs take on the Toledo Mud Hens!\n\n\n\nWe will be enjoying the game from the Mezzanine.  Our group will enjoy a buffet and a great view of the game!\n\n\n\nBuffet service runs from 6:00 to 7:08pm. \n\n	A served buffet that includes ballpark fare\n	Reserved outdoor seating
X-ALT-DESC;FMTTYPE=text/html:<span style="font-family: arial\;"><span class="JsGRdQ" style="font-weight: 700\; color: rgb(0\, 0\, 0)\;"><span style="font-size: 18px\;"><strong>TAKE ME OUT TO THE BALL GAME!</strong></span></span><br />\n<br />\n<span class="JsGRdQ" style="font-weight: 700\; color: rgb(0\, 0\, 0)\;">Des Moines area shops and industry partners - we invite you to join us for a night at the ballpark as the Iowa Cubs take on the Toledo Mud Hens!<br />\n<br />\nWe will be enjoying the game from the Mezzanine.&nbsp\; Our group will enjoy a buffet and a great view of the game!<br />\n<br />\nBuffet service runs from 6:00 to 7:08pm.&nbsp\;</span></span>\n<ul>\n	<li><span style="font-family: arial\;"><span class="JsGRdQ" style="font-weight: 700\; color: rgb(0\, 0\, 0)\;">A served buffet that includes ballpark fare</span></span></li>\n	<li><span style="font-family: arial\;"><span class="JsGRdQ" style="font-weight: 700\; color: rgb(0\, 0\, 0)\;">Reserved outdoor seating</span></span></li>\n</ul>\n
LOCATION:1 Line Drive Des Moines\, IA 50309
UID:e.9124.1595
SEQUENCE:3
DTSTAMP:20260419T135033Z
URL:https://consumer.asa-midwest.org/events/details/des-moines-chapter-event-iowa-cubs-game-1595
END:VEVENT

END:VCALENDAR
