BEGIN:VCALENDAR
VERSION:2.0
PRODID:-//ChamberMaster//Event Calendar 2.0//EN
METHOD:PUBLISH
X-PUBLISHED-TTL:P3D
REFRESH-INTERVAL:P3D
CALSCALE:GREGORIAN
BEGIN:VEVENT
DTSTART:20240514T230000Z
DTEND:20240515T020000Z
X-MICROSOFT-CDO-ALLDAYEVENT:FALSE
SUMMARY:Central Missouri Chapter - What Every Technician Must Know About Automotive Air Conditioning
DESCRIPTION:What Every Technician Must Know About Automotive Air Conditioning\n\nIn Person Training with Jeff Bly \n\n \n\nAC season is normally one of the most profitable times of the year for auto repair shops.\n\nYet\, every season it seems that in every shop there are at least 1 or 2 jobs that don?t exactly work as well as expected: with higher-than-expected vent temperatures. Why??\n\nFacts: Most technicians are familiar with the pressures they want to see after charging an AC system\, but few are tuned in to temperature diagnostics at the condenser\, evaporator and even the compressor.\n\nAttendees of this class will receive real world\, no nonsense\, testing tips that will help super tune every AC job in your shop\; making sure the system is working at peak efficiency.\n\nR-134a & R1234yf systems will be covered as they are very similar thermodynamically using the same exact components. Manual and Automatic climate control system components\, scan tool codes and data will be covered as well.\n\nThis Class is excellent information for Technicians\, Service Managers & Shop owners looking for a deeper Understanding of How AC Systems Work.
X-ALT-DESC;FMTTYPE=text/html:<strong><span style="font-size:16px\;"><span style="font-family:tahoma\;">What Every Technician Must Know About Automotive Air Conditioning<br />\nIn Person Training with Jeff Bly&nbsp\;</span></span></strong><br />\n&nbsp\;\n<div class="zw-paragraph" data-doc-id="8333652000002085001" data-doc-type="writer" data-line-height="1.2" data-margin-bottom="12pt" data-textformat="{" data_styles="{" style="margin: 0px 0px 12pt\; line-height: 1.2\;">\n<p class="zw-paragraph heading0" data-doc-id="8333652000002085001" data-doc-type="writer" data-hd-info="0" data-header="0" data-line-height="1.2" data-margin-bottom="12pt" style="margin: 0px 0px 12pt\; line-height: 1.2\;"><span style="font-size: 14px\;"><span style="font-family: tahoma\;">AC season is normally one of the most profitable times of the year for auto repair shops.<br />\nYet\, every season it seems that in every shop there are at least 1 or 2 jobs that don?t exactly work as well as expected: with higher-than-expected vent temperatures. Why??<br />\nFacts: Most technicians are familiar with the pressures they want to see after charging an AC system\, but few are tuned in to temperature diagnostics at the condenser\, evaporator and even the compressor.<br />\nAttendees of this class will receive real world\, no nonsense\, testing tips that will help super tune every AC job in your shop\; making sure the system is working at peak efficiency.<br />\nR-134a &amp\; R1234yf systems will be covered as they are very similar thermodynamically using the same exact components. Manual and Automatic climate control system components\, scan tool codes and data will be covered as well.<br />\nThis Class is excellent information for Technicians\, Service Managers &amp\; Shop owners looking for a deeper Understanding of How AC Systems Work.</span></span><br />\n&nbsp\;</p>\n</div>\n
LOCATION:Midwest Autoworx 2001 Rangeline St\, Columbia\, MO 65202
UID:e.9124.1597
SEQUENCE:3
DTSTAMP:20260419T142702Z
URL:https://consumer.asa-midwest.org/events/details/central-missouri-chapter-what-every-technician-must-know-about-automotive-air-conditioning-1597
END:VEVENT

END:VCALENDAR
