BEGIN:VCALENDAR
VERSION:2.0
PRODID:-//ChamberMaster//Event Calendar 2.0//EN
METHOD:PUBLISH
X-PUBLISHED-TTL:P3D
REFRESH-INTERVAL:P3D
CALSCALE:GREGORIAN
BEGIN:VEVENT
DTSTART:20240319T233000Z
DTEND:20240320T013000Z
X-MICROSOFT-CDO-ALLDAYEVENT:FALSE
SUMMARY:Central Missouri Chapter Meeting: New Tech Tour & Roundtable
DESCRIPTION:New Tech Tour & Roundtable \n\n\n\nDon't miss this unique opportunity to see behind the scenes of another shop and expand your network of industry colleagues while talking all things new and emerging technology in our industry! Auto Tech Services will be showcasing their Hunter ADAS equipment\, Digital Vehicle Inspections process\, and other new technology processes they have recently implemented in their shop.
X-ALT-DESC;FMTTYPE=text/html:<span style="font-family:tahoma\;"><strong><span style="font-size:16px\;">New Tech Tour &amp\; Roundtable&nbsp\;</span></strong><br />\n<br />\n<span style="font-size:14px\;">Don&#39\;t miss this unique opportunity to see behind the scenes of another shop and expand your network of industry colleagues while talking all things new and emerging technology in our industry! <span class="OYPEnA text-decoration-none text-strikethrough-none" style="color: rgb(0\, 0\, 0)\;">Auto Tech Services will be showcasing their Hunter ADAS equipment\, Digital Vehicle Inspections process\, and other new technology processes they have recently implemented in their shop.</span></span></span>
LOCATION:Auto Tech Services 13431 Missouri 52 Versailles\, MO 65084
UID:e.9124.1594
SEQUENCE:3
DTSTAMP:20260419T183008Z
URL:https://consumer.asa-midwest.org/events/details/central-missouri-chapter-meeting-new-tech-tour-roundtable-1594
END:VEVENT

END:VCALENDAR
