BEGIN:VCALENDAR
VERSION:2.0
PRODID:-//ChamberMaster//Event Calendar 2.0//EN
METHOD:PUBLISH
X-PUBLISHED-TTL:P3D
REFRESH-INTERVAL:P3D
CALSCALE:GREGORIAN
BEGIN:VEVENT
DTSTART:20240619T143000Z
DTEND:20240619T200000Z
X-MICROSOFT-CDO-ALLDAYEVENT:FALSE
SUMMARY:Annual MVTAP Golf Outing
DESCRIPTION:Helicopter Ball Drop\n\nBefore the Golf Outing tees off\, join us for the Helicopter Ball Drop at 9 a.m. on June 19\, 2024. Ball that lands closest to the pin wins $1\,000\n\n\n\nRegister online at https://www.mvtap.org/. \n\n\n\nSince the inception of MVTAP in 2004\, we have seen a transformation in the collision repair programs at the technical schools we work with. With better qualified teachers\, improved communications and access to superior equipment\, tools and teaching aids\, MVTAP has witnessed a marked improvement in students furthering their education and being better prepared for jobs in the collision repair industry. The charitable funds provided are used by the collision repair programs to purchase supplies and equipment\, and allow for repairs of current tools and equipment.
X-ALT-DESC;FMTTYPE=text/html:<span style="font-size:14px\;"><span style="font-family:tahoma\;">Helicopter Ball Drop<br />\nBefore the Golf Outing tees off\, join us for the Helicopter Ball Drop at 9 a.m. on June 19\, 2024. Ball that lands closest to the pin wins $1\,000<br />\n<br />\nRegister online at&nbsp\;https://www.mvtap.org/.&nbsp\;<br />\n<br />\nSince the inception of MVTAP in 2004\, we have seen a transformation in the collision repair programs at the technical schools we work with. With better qualified teachers\, improved communications and access to superior equipment\, tools and teaching aids\, MVTAP has witnessed a marked improvement in students furthering their education and being better prepared for jobs in the collision repair industry. The charitable funds provided are used by the collision repair programs to purchase supplies and equipment\, and allow for repairs of current tools and equipment.&nbsp\;</span></span>
LOCATION:Meramac Lakes Golf Course 321 Birdie Lane St. Clair\, MO 63077
UID:e.9124.1661
SEQUENCE:3
DTSTAMP:20260419T123210Z
URL:https://consumer.asa-midwest.org/events/details/annual-mvtap-golf-outing-1661
END:VEVENT

END:VCALENDAR
